BEGIN:VCALENDAR
VERSION:2.0
PRODID:-//JETNJ//Consecration 2026//EN
CALSCALE:GREGORIAN
METHOD:PUBLISH
BEGIN:VEVENT
UID:consecration-2026-07-04T00:00:00-04:00@jetnj.org
DTSTAMP:20260420T143805Z
DTSTART:20260704T040000Z
DTEND:20260708T020000Z
SUMMARY:Sri Hanuman Prana Pratishtha — Consecration Ceremony
DESCRIPTION:Sri Hanuman Prana Pratishtha — Consecration Ceremony\n\nFour sacred days performed according to the\nSri Vaishnava Pancharatra Agama, in the divine presence of\nHH Sri Tridandi Chinna Jeeyar Swamiji.\n\nProgram details will be published closer to the ceremony.\n\nRegister: /profile#consecration\nMore: https://www.jetnj.org/consecration
LOCATION:Sanjeevani Jeeyar Asramam, 494 Beverly Rancocas Rd, Willingboro, NJ 08046
URL:https://www.jetnj.org/consecration
END:VEVENT
END:VCALENDAR